BEGIN:VCALENDAR
VERSION:2.0
PRODID:-//eventon.com NONSGML v1.0//EN
CALSCALE:GREGORIAN
METHOD:PUBLISH
BEGIN:VEVENT
UID:69e8e2eee217e
DTSTAMP:20260422T150206Z
DTSTART:20260701
DTEND:20260702
LOCATION:
SUMMARY:Little Recyclers Collection
DESCRIPTION:Little Recyclers Collection\nhttps://emmbrookjuniorschool.co.uk
 /events/little-recyclers-collection/
URL:https://emmbrookjuniorschool.co.uk/events/little-recyclers-collection/
END:VEVENT
END:VCALENDAR