BEGIN:VCALENDAR
VERSION:2.0
PRODID:-//eventon.com NONSGML v1.0//EN
CALSCALE:GREGORIAN
METHOD:PUBLISH
BEGIN:VEVENT
UID:69e8cc399fc10
DTSTAMP:20260422T132513Z
DTSTART:20260701
DTEND:20260702
LOCATION:
SUMMARY:PTA Annual General Meeting
DESCRIPTION:PTA Annual General Meeting\nhttps://emmbrookjuniorschool.co.uk/
 events/pta-annual-general-meeting/
URL:https://emmbrookjuniorschool.co.uk/events/pta-annual-general-meeting/
END:VEVENT
END:VCALENDAR