BEGIN:VCALENDAR
VERSION:2.0
PRODID:-//eventon.com NONSGML v1.0//EN
CALSCALE:GREGORIAN
METHOD:PUBLISH
BEGIN:VEVENT
UID:69e8e22ae03c3
DTSTAMP:20260422T145850Z
DTSTART:20260621
DTEND:20260622
LOCATION:
SUMMARY:Summer Fair and Colour Run
DESCRIPTION:Summer Fair and Colour Run\nhttps://emmbrookjuniorschool.co.uk/
 events/summer-fair-and-colour-run/
URL:https://emmbrookjuniorschool.co.uk/events/summer-fair-and-colour-run/
END:VEVENT
END:VCALENDAR