BEGIN:VCALENDAR
VERSION:2.0
PRODID:-//eventon.com NONSGML v1.0//EN
CALSCALE:GREGORIAN
METHOD:PUBLISH
BEGIN:VEVENT
UID:69e8cc159cb66
DTSTAMP:20260422T132437Z
DTSTART:20260509
DTEND:20260510
LOCATION:
SUMMARY:Comedy Night
DESCRIPTION:Comedy Night\nhttps://emmbrookjuniorschool.co.uk/events/comedy-
 night/
URL:https://emmbrookjuniorschool.co.uk/events/comedy-night/
END:VEVENT
END:VCALENDAR