BEGIN:VCALENDAR
VERSION:2.0
PRODID:-//eventon.com NONSGML v1.0//EN
CALSCALE:GREGORIAN
METHOD:PUBLISH
BEGIN:VEVENT
UID:69e8e0f15771e
DTSTAMP:20260422T145337Z
DTSTART:20260403
DTEND:20260404
LOCATION:
SUMMARY:Easter Egg Hunt
DESCRIPTION:Easter Egg Hunt\nhttps://emmbrookjuniorschool.co.uk/events/east
 er-egg-hunt/
URL:https://emmbrookjuniorschool.co.uk/events/easter-egg-hunt/
END:VEVENT
END:VCALENDAR